BEGIN:VCALENDAR
VERSION:2.0
PRODID:-//Tukios.com/
BEGIN:VEVENT
UID:72926867-6ad6-4316-bc3b-d81fd553b87d@www.debaunfuneralhomes.com
DTSTAMP:20260422T102401Z
DTSTART:20260501T150000Z
DTEND:20260501T160000Z
SUMMARY:Celebration of Life
DESCRIPTION:
URL:https://www.debaunfuneralhomes.com/obituaries/martha-parker
LOCATION:Agape Church 1825 East Jessica Drive  Terre Haute IN 47802
GEO:39.372677;-87.3884248
END:VEVENT
END:VCALENDAR